BEGIN:VCALENDAR
VERSION:2.0
PRODID:-//www.academie.repaircafeparis.fr//NONSGML kigkonsult.se iCalcreato
 r 2.30.10//
CALSCALE:GREGORIAN
METHOD:PUBLISH
UID:706ab74a-b333-4c43-a4c7-6f6db86a1d66
X-WR-CALNAME:iCagenda
X-WR-CALDESC:Event Management Extension for Joomla!
X-WR-RELCALID:3E26604A-50F4-4449-8B3E-E4F4932D05B5
X-WR-TIMEZONE:Europe/Paris
BEGIN:VTIMEZONE
TZID:Europe/Paris
BEGIN:STANDARD
TZNAME:CET
DTSTART:20231029T030000
TZOFFSETFROM:+0200
TZOFFSETTO:+0100
RDATE:20241027T030000
END:STANDARD
BEGIN:DAYLIGHT
TZNAME:CEST
DTSTART:20230326T020000
TZOFFSETFROM:+0100
TZOFFSETTO:+0200
RDATE:20240331T020000
RDATE:20250330T020000
END:DAYLIGHT
END:VTIMEZONE
BEGIN:VEVENT
UID:4a533ecd-1dbc-4eb3-bcdf-e3db54e7a69b
DTSTAMP:20260424T120141Z
CATEGORIES:03.Repair cafe centre
CLASS:PUBLIC
DESCRIPTION:
DTSTART:20240127T130000Z
DTEND:20240127T130000Z
GEO:+48.866478;+2.345801
LOCATION:Ressourcerie 13 Rue Leopold Bellan Paris 2e
ORGANIZER;CN=:repaircafepariscentre@gmail.com
SEQUENCE:1
SUMMARY:Repair Café Paris Centre
TRANSP:OPAQUE
URL:https://academie.repaircafeparis.fr/index.php/calendar/101-repair-cafe-
 paris-centre-2/2024-01-27-14-00
END:VEVENT
END:VCALENDAR
