BEGIN:VCALENDAR
VERSION:2.0
PRODID:-//www.academie.repaircafeparis.fr//NONSGML kigkonsult.se iCalcreato
 r 2.30.10//
CALSCALE:GREGORIAN
METHOD:PUBLISH
UID:e53f9fb9-7b68-4385-bd3b-1f3b636083df
X-WR-CALNAME:iCagenda
X-WR-CALDESC:Event Management Extension for Joomla!
X-WR-RELCALID:3E26604A-50F4-4449-8B3E-E4F4932D05B5
X-WR-TIMEZONE:Europe/Paris
BEGIN:VTIMEZONE
TZID:Europe/Paris
BEGIN:STANDARD
TZNAME:CET
DTSTART:20231029T030000
TZOFFSETFROM:+0200
TZOFFSETTO:+0100
RDATE:20241027T030000
RDATE:20251026T030000
END:STANDARD
BEGIN:DAYLIGHT
TZNAME:CEST
DTSTART:20240331T020000
TZOFFSETFROM:+0100
TZOFFSETTO:+0200
RDATE:20250330T020000
END:DAYLIGHT
END:VTIMEZONE
BEGIN:VEVENT
UID:405713d7-000c-403b-88a6-40c09defa017
DTSTAMP:20260422T072012Z
CATEGORIES:75.Repair café Paris
CLASS:PUBLIC
DESCRIPTION;ALTREP="CID:<FFFF__=0ABBE548DFE235B58f9e8a93d@coffeebean.com>":
 Le réseau des Ressourceries et Recycleries d'Ile-de-France organise la 7ém
 e édition du Festival de la Recup' les 31 mai\, 1 et 2 juin à Paris.\nLes 
 ateliers auront lieu au Jardin d’Éole 56 rue d'Aubervilliers\, Paris 18e
DTSTART:20240601T083000Z
DTEND:20240601T085400Z
GEO:+48.887398;+2.367193
LOCATION:56 rue d'Aubervilliers\, Paris 18e
ORGANIZER:
SEQUENCE:1
SUMMARY:FETE DE LA RECUP' 2024
TRANSP:OPAQUE
URL:https://academie.repaircafeparis.fr/index.php/calendar/178-fete-de-la-r
 ecup-2024
END:VEVENT
END:VCALENDAR
