BEGIN:VCALENDAR
VERSION:2.0
PRODID:-//www.academie.repaircafeparis.fr//NONSGML kigkonsult.se iCalcreato
 r 2.30.10//
CALSCALE:GREGORIAN
METHOD:PUBLISH
UID:5577e2ef-70f5-4586-9d44-4b934f703820
X-WR-CALNAME:iCagenda
X-WR-CALDESC:Event Management Extension for Joomla!
X-WR-RELCALID:3E26604A-50F4-4449-8B3E-E4F4932D05B5
X-WR-TIMEZONE:Europe/Paris
BEGIN:VTIMEZONE
TZID:Europe/Paris
BEGIN:STANDARD
TZNAME:CET
DTSTART:20251026T030000
TZOFFSETFROM:+0200
TZOFFSETTO:+0100
RDATE:20261025T030000
RDATE:20271031T030000
END:STANDARD
BEGIN:DAYLIGHT
TZNAME:CEST
DTSTART:20260329T020000
TZOFFSETFROM:+0100
TZOFFSETTO:+0200
RDATE:20270328T020000
END:DAYLIGHT
END:VTIMEZONE
BEGIN:VEVENT
UID:30a99383-e2eb-4cf9-9769-e50f1cd173ad
DTSTAMP:20260423T040928Z
CATEGORIES:12.Repair cafe 12ème
CLASS:PUBLIC
DESCRIPTION;ALTREP="CID:<FFFF__=0ABBE548DFE235B58f9e8a93d@coffeebean.com>":
 le 8 novembre : Attention il a lieu 10 rue Erard au CPA Café Maya\nSe déro
 ule entre 14h et 17h\nPas d'inscription préalable. La Réparation se fait p
 ar ordre d'arrivée\, selon la disponibilité du bénévole réparateur compéte
 nt pour l'objet à réparer.\nPetit électroménager\, Objets électroniques\, 
 Equipements informatiques\, Bricolage\, Couture (textile propre uniquement
 ).\nPenser à apporter les cables\, mode d'emploi\, piles\, ampoule...utile
 s à la réparation\,\nRepair Café Paris 12 a lieu alternativement une fois 
 par mois (voir le calendrier) :\n&nbsp\;- au Centre Paris Anim Bessie Smit
 h\, 19 rue AJ Hénard\, (6dec\, 14 février\, 13 juin : 107 rue de Reuilly)\
 ,&nbsp\;\n&nbsp\;- au Centre Paris Anim Annie Fratellini\, 36 quai de la R
 apée (8 nov\, 14 mars\, 9 mai)\n&nbsp\;- au Centre Paris Anim Maurice Rave
 l \, 6 rue Maurice Ravel (10 oct\, 9 janv\, 10 avril)\n- à la MVAC\, élect
 roménager\, 1 jeudi par mois (dates et inscriptions via le site)\n- à la&n
 bsp\;Maison du Zéro Déchet\, Informatique et Téléphonie\, 1 mardi par mois
  (dates et inscriptions via le site)\nLe mardi matin de 10h15 à 12h45\, à 
 la Maison de la Vie Associative et Citoyenne\, 181 av Daumesnil 75012 Pari
 s\,&nbsp\; (inscription obligatoire\, écrire à repaircafeparis12@gmail.com
 ) ou sur place.\n&nbsp\;
DTSTART:20260509T120000Z
DTEND:20260509T120000Z
GEO:+48.841476;+2.373199
LOCATION:36 quai de la Rapée 75012 PARIS
ORGANIZER;CN=:repaircafeparis12@gmail.com
SEQUENCE:1
SUMMARY:Repair Café Paris 12 (Rapée) (4)
TRANSP:OPAQUE
URL:https://academie.repaircafeparis.fr/index.php/calendar/213-60-repair-ca
 fe-paris-15/2026-05-09-14-00
END:VEVENT
END:VCALENDAR
