BEGIN:VCALENDAR
VERSION:2.0
PRODID:-//www.academie.repaircafeparis.fr//NONSGML kigkonsult.se iCalcreato
 r 2.30.10//
CALSCALE:GREGORIAN
METHOD:PUBLISH
UID:3179ee9e-242c-431d-a8d3-9ca2231b88f1
X-WR-CALNAME:iCagenda
X-WR-CALDESC:Event Management Extension for Joomla!
X-WR-RELCALID:3E26604A-50F4-4449-8B3E-E4F4932D05B5
X-WR-TIMEZONE:Europe/Paris
BEGIN:VTIMEZONE
TZID:Europe/Paris
BEGIN:STANDARD
TZNAME:CET
DTSTART:20251026T030000
TZOFFSETFROM:+0200
TZOFFSETTO:+0100
RDATE:20261025T030000
END:STANDARD
BEGIN:DAYLIGHT
TZNAME:CEST
DTSTART:20250330T020000
TZOFFSETFROM:+0100
TZOFFSETTO:+0200
RDATE:20260329T020000
RDATE:20270328T020000
END:DAYLIGHT
END:VTIMEZONE
BEGIN:VEVENT
UID:2e4f33f9-d02a-4bc1-84d1-01fdacd95300
DTSTAMP:20260421T181247Z
CATEGORIES:12.Repair cafe 12ème
CLASS:PUBLIC
DESCRIPTION;ALTREP="CID:<FFFF__=0ABBE548DFE235B58f9e8a93d@coffeebean.com>":
 Se déroule de 19h à 21h30 à la Maison du Zéro Déchet\, 1 passage Emma Calv
 é 75012 Paris\nUniquement pour l'Informatique et la Téléphonie\nInscriptio
 n: Obligatoire en écrivant à repaircafeparis12@gmail.com&nbsp\;\n&nbsp\;Ar
 rivez à l'heure fixée\, la boutique ferme à 20h\nL'inscription engage et n
 e pas annuler en&nbsp\; bloque d'autres.\nMerci de prévenir en cas d'empèc
 hement:&nbsp\;repaircafeparis12@gmail.com&nbsp\; &nbsp\;\nPenser à apporte
 r les cables\, chargeurs\, mode d'emploi\, piles...utiles à la réparation\
 ,\nCharte RCP à approuver\nRepair Café Paris 12 a lieu alternativement une
  fois par mois (voir le calendrier) :\n&nbsp\;- au Centre Paris Anim Bessi
 e Smith\, 19 rue AJ Hénard\, (6dec\, 14 février\, 13 juin : 107 rue de Reu
 illy)\,&nbsp\;\n&nbsp\;- au Centre Paris Anim Annie Fratellini\, 36 quai d
 e la Rapée (8 nov\, 14 mars\, 9 mai)\n&nbsp\;- au Centre Paris Anim Mauric
 e Ravel \, 6 rue Maurice Ravel (10 oct\, 9 janv\, 10 avril)\n- à la MVAC\,
  électroménager\, 1 jeudi par mois (dates et inscriptions via le site)\n- 
 à la&nbsp\;Maison du Zéro Déchet\, Informatique et Téléphonie\, 1 mardi pa
 r mois (dates et inscriptions via le site)\nLe mardi matin de 10h15 à 12h4
 5\, à la Maison de la Vie Associative et Citoyenne\, 181 av Daumesnil 7501
 2 Paris\,&nbsp\; (inscription obligatoire\, écrire à repaircafeparis12@gma
 il.com) ou sur place.\n&nbsp\;\n&nbsp\;\n&nbsp\;\n&nbsp\;
DTSTART:20251216T180000Z
DTEND:20251216T180000Z
GEO:+48.848461;+2.385679
LOCATION:Maison du Zéro Déchet\, 1 passage Emma Calvé\, 75012 Paris
ORGANIZER;CN=:repaircafeparis12@gmail.com
SEQUENCE:1
SUMMARY:Repair Café Paris 12 Informatique Téléphonie à la Maison du Zéro Dé
 chet (2)
TRANSP:OPAQUE
URL:https://academie.repaircafeparis.fr/index.php/calendar/221-rc12-17/2025
 -12-16-19-00
END:VEVENT
END:VCALENDAR
