BEGIN:VCALENDAR
VERSION:2.0
PRODID:-//www.academie.repaircafeparis.fr//NONSGML kigkonsult.se iCalcreato
 r 2.30.10//
CALSCALE:GREGORIAN
METHOD:PUBLISH
UID:f750220f-46ed-4296-905a-b2fff95908a3
X-WR-CALNAME:iCagenda
X-WR-CALDESC:Event Management Extension for Joomla!
X-WR-RELCALID:3E26604A-50F4-4449-8B3E-E4F4932D05B5
X-WR-TIMEZONE:Europe/Paris
BEGIN:VTIMEZONE
TZID:Europe/Paris
BEGIN:STANDARD
TZNAME:CET
DTSTART:20231029T030000
TZOFFSETFROM:+0200
TZOFFSETTO:+0100
RDATE:20241027T030000
RDATE:20251026T030000
END:STANDARD
BEGIN:DAYLIGHT
TZNAME:CEST
DTSTART:20240331T020000
TZOFFSETFROM:+0100
TZOFFSETTO:+0200
RDATE:20250330T020000
RDATE:20260329T020000
END:DAYLIGHT
END:VTIMEZONE
BEGIN:VEVENT
UID:9bf88444-489c-40c0-a6bb-a88b8c320f54
DTSTAMP:20260422T150015Z
CATEGORIES:09.Repair cafe 9ème
CLASS:PUBLIC
DESCRIPTION:
DTSTART:20241005T073000Z
DTEND:20241005T073000Z
GEO:+48.872597;+2.340453
LOCATION:Mairie du 9ème 6 rue Drouot 75009 Paris
ORGANIZER;CN=:repaircafeparisneuf@gmail.com
SEQUENCE:1
SUMMARY:Repair café Paris 9 (Mairie)
TRANSP:OPAQUE
URL:https://academie.repaircafeparis.fr/index.php/calendar/4-mairie-du-9/20
 24-10-05-09-30
END:VEVENT
END:VCALENDAR
